BEGIN:VCALENDAR
VERSION:2.0
PRODID:-//wp-events-plugin.com//7.2.3.1//EN
TZID:America/New_York
X-WR-TIMEZONE:America/New_York
BEGIN:VEVENT
UID:114@shirtikva.org
DTSTART;TZID=America/New_York:20211220T084500
DTEND;TZID=America/New_York:20211220T094500
DTSTAMP:20211206T185132Z
URL:https://www.shirtikva.org/events/gentle-yoga-with-holly-glick-2021-12-
 20/
SUMMARY:Gentle Yoga with Holly Glick
DESCRIPTION:Join fellow congregants for this gentle yoga practice as an alt
 ernative point of connection to Jewish life through movement. Class is des
 igned to embody and cultivate middot (soul traits) drawn from the spiritua
 l practice of Mussar. Classes promote mindfulness\, improve mobility\, red
 uce stress\, nourish spirit and enhance community connection. If you can b
 reathe\, stand\, sit and stretch you have all that you need. Come for one 
 session or all!\n\nSee the Weekly Schedule for Zoom link!
ATTACH;FMTTYPE=image/jpeg:https://www.shirtikva.org/wp-content/uploads/202
 1/12/Yoga.png
CATEGORIES:Featured Events
END:VEVENT
BEGIN:VTIMEZONE
TZID:America/New_York
X-LIC-LOCATION:America/New_York
BEGIN:STANDARD
DTSTART:20211107T010000
TZOFFSETFROM:-0400
TZOFFSETTO:-0500
TZNAME:EST
END:STANDARD
END:VTIMEZONE
END:VCALENDAR